BEGIN:VCALENDAR
PRODID:-//eluceo/ical//2.0/EN
VERSION:2.0
CALSCALE:GREGORIAN
BEGIN:VEVENT
UID:96d9c5a08ffb6716041ee66b7f62276b
DTSTAMP:20260424T000245Z
SUMMARY:Generalversammlung mit Lunch
DESCRIPTION:Bitte über diesen Umfrage-Link zur Menüauswahl (obligatorisch
  für alle Teilnehmenden\, Eintrag jederzeit\, aber wenn möglich bis Donn
 erstag vor dem Lunch\, 10.00): Anmeldung\nMenü: Gemüsecremesuppe mit Cr
 outonsoderBlattsalat mit Kernen und Sprossen***Rinderhackbraten an Pilzrah
 msaucemit Kartoffelstock und OfengemüseoderVegetarische Alternative:Tagli
 atelle mit\nArtischockenragout\,Dörrtomaten\, Chili und\nRicotta***«Geb
 äck zum Kaffee»\nWebseite: http://www.casinotheater.ch\nReferenten/innen
 : 
URL:https://rcwk.ch/de/agenda/show/152380
DTSTART;TZID=Europe/Zurich:20230609T120000
DTEND;TZID=Europe/Zurich:20230609T133000
LOCATION:Restaurant Casinotheater Winterthur\, Stadthausstrasse 119\, 8400 
 Winterthur
CATEGORIES:Rotary
END:VEVENT
BEGIN:VTIMEZONE
TZID:Europe/Zurich
BEGIN:DAYLIGHT
DTSTART:20230609T120000
TZNAME:CEST
TZOFFSETTO:+0200
TZOFFSETFROM:+0200
END:DAYLIGHT
END:VTIMEZONE
END:VCALENDAR
