BEGIN:VCALENDAR
PRODID:-//eluceo/ical//2.0/EN
VERSION:2.0
CALSCALE:GREGORIAN
BEGIN:VEVENT
UID:fe5ca4a96d7ad292c04a085d7dd4313d
DTSTAMP:20260424T051529Z
SUMMARY:"Wenn Leises laut und Lautes leise wird" - Amtsübergabe im Lok.al 
 Winterthur
DESCRIPTION:Motto des Abends: "Wenn Leises laut und Lautes leise wird"\nMen
 ü: Buffet mit Grill und Salaten\nWebseite: https://lok.al/zuhause/wintert
 hur/\nReferenten/innen: Amtsübergabe von Stefan Feer an Ursula Rusch und 
 Crew
URL:https://rcwk.ch/de/agenda/show/152381
DTSTART;TZID=Europe/Zurich:20230616T180000
DTEND;TZID=Europe/Zurich:20230616T230000
LOCATION:Lok.AL\, Zeughausstrasse 52\, 8400 Winterthur
CATEGORIES:Rotary
END:VEVENT
BEGIN:VTIMEZONE
TZID:Europe/Zurich
BEGIN:DAYLIGHT
DTSTART:20230616T180000
TZNAME:CEST
TZOFFSETTO:+0200
TZOFFSETFROM:+0200
END:DAYLIGHT
END:VTIMEZONE
END:VCALENDAR
