BEGIN:VCALENDAR
PRODID:-//eluceo/ical//2.0/EN
VERSION:2.0
CALSCALE:GREGORIAN
BEGIN:VEVENT
UID:553697b3c05d123bd4b4ececcf9d7398
DTSTAMP:20260424T033108Z
SUMMARY:Lunch mit Referat von Alejandra Wakuluk - "Glücksstrategien für d
 en Dritten Lebensabschnitt"
DESCRIPTION:Bitte über diesen Umfrage-Link zur Menüauswahl (obligatorisch
  für alle Teilnehmenden\, Eintrag jederzeit\, aber wenn möglich bis Donn
 erstag vor dem Lunch\, 10.00): Anmeldung\nMenü: Tomaten- Papaya- Suppe m
 it ErdnüssenoderBlattsalat mit Kernen und Sprossen***Gebratene Maispoular
 de mit Djuvec Reisund Zitronen- Joghurt- DipoderVegetarische Alternative:G
 emüse- Tajine mit\ngetrockneten Früchten\,Couscous und Fladenbrot***«Ge
 bäck zum Kaffee»\nWebseite: http://www.casinotheater.ch\nReferenten/inne
 n: Alejandra Wakuluk\, Pro Senectute 
URL:https://rcwk.ch/de/agenda/show/152382
DTSTART;TZID=Europe/Zurich:20230623T120000
DTEND;TZID=Europe/Zurich:20230623T133000
LOCATION:Restaurant Casinotheater Winterthur\, Stadthausstrasse 119\, 8400 
 Winterthur
CATEGORIES:Rotary
END:VEVENT
BEGIN:VTIMEZONE
TZID:Europe/Zurich
BEGIN:DAYLIGHT
DTSTART:20230623T120000
TZNAME:CEST
TZOFFSETTO:+0200
TZOFFSETFROM:+0200
END:DAYLIGHT
END:VTIMEZONE
END:VCALENDAR
