BEGIN:VCALENDAR
PRODID:-//eluceo/ical//2.0/EN
VERSION:2.0
CALSCALE:GREGORIAN
BEGIN:VEVENT
UID:05f0fc77b5e57f109e05dedfea8d1327
DTSTAMP:20260423T234817Z
SUMMARY:Amtsübergabe des RC Bad Wörishofen
DESCRIPTION:Webseite: https://bad-woerishofen.rotary.de/
URL:https://rcwk.ch/de/agenda/show/159935
DTSTART;TZID=Europe/Zurich:20230628T190000
DTEND;TZID=Europe/Zurich:20230628T190000
LOCATION:Hotel Sonnengarten\, Bad Wörishofen (Clublokal)
CATEGORIES:Rotary
END:VEVENT
BEGIN:VTIMEZONE
TZID:Europe/Zurich
BEGIN:DAYLIGHT
DTSTART:20230628T190000
TZNAME:CEST
TZOFFSETTO:+0200
TZOFFSETFROM:+0200
END:DAYLIGHT
END:VTIMEZONE
END:VCALENDAR
