BEGIN:VCALENDAR
PRODID:-//eluceo/ical//2.0/EN
VERSION:2.0
CALSCALE:GREGORIAN
BEGIN:VEVENT
UID:2f7a3cc0ac12d1cb70e943e8b7cf74d5
DTSTAMP:20260423T151630Z
SUMMARY:Apéro in der Krone
DESCRIPTION:Juheee\, der erste Live-Apéro in der Krone. \n\nWir freuen un
 s - die neuen Programm Macher. \n\nSchaScha \n\nBitte über diesen Doodl
 e Link zur Anmeldung (obligatorisch für alle Teilnehmenden\, Eintrag jede
 rzeit\, aber wenn möglich bis Donnerstag vor dem Abendanlass\, 10.00): h
 ttps://doodle.com/poll/9z6q6vn896ah534x
URL:https://rcwk.ch/es/agenda/show/112805
DTSTART;TZID=Europe/Zurich:20200703T183000
DTEND;TZID=Europe/Zurich:20200703T200000
LOCATION:Restaurant Krone Winterthur
CATEGORIES:Rotary
END:VEVENT
BEGIN:VTIMEZONE
TZID:Europe/Zurich
BEGIN:DAYLIGHT
DTSTART:20200703T183000
TZNAME:CEST
TZOFFSETTO:+0200
TZOFFSETFROM:+0200
END:DAYLIGHT
END:VTIMEZONE
END:VCALENDAR
