BEGIN:VCALENDAR
PRODID:-//eluceo/ical//2.0/EN
VERSION:2.0
CALSCALE:GREGORIAN
BEGIN:VEVENT
UID:f572d2bc2b59ba88b4cc7fe028028c58
DTSTAMP:20260424T051739Z
SUMMARY:Apéro in der Krone
DESCRIPTION:Sitio web: https://kronewinterthur.ch/
URL:https://rcwk.ch/es/agenda/show/141716
DTSTART;TZID=Europe/Zurich:20220701T183000
DTEND;TZID=Europe/Zurich:20220701T200000
LOCATION:Restaurant / Hotel Krone\, Restaurant / Hotel Krone\, Marktgasse 4
 9\, 8400 Winterthur\, Schweiz
CATEGORIES:Rotary
END:VEVENT
BEGIN:VTIMEZONE
TZID:Europe/Zurich
BEGIN:DAYLIGHT
DTSTART:20220701T183000
TZNAME:CEST
TZOFFSETTO:+0200
TZOFFSETFROM:+0200
END:DAYLIGHT
END:VTIMEZONE
END:VCALENDAR
