BEGIN:VCALENDAR
PRODID:-//eluceo/ical//2.0/EN
VERSION:2.0
CALSCALE:GREGORIAN
BEGIN:VEVENT
UID:8f51a98c721efab7989d98f971a520ec
DTSTAMP:20260424T014536Z
SUMMARY:Lunch mit Referat - Bericht aus dem Hause der Glücksbringer
DESCRIPTION:Sitio web: http://www.casinotheater.ch\nOrador(es): Paul Gräss
 li\, Zentralpräsident Kaminfeger Schweiz
URL:https://rcwk.ch/es/agenda/show/141719
DTSTART;TZID=Europe/Zurich:20220708T120000
DTEND;TZID=Europe/Zurich:20220708T133000
LOCATION:Restaurant Casinotheater Winterthur\, Stadthausstrasse 119\, 8400 
 Winterthur
CATEGORIES:Rotary
END:VEVENT
BEGIN:VTIMEZONE
TZID:Europe/Zurich
BEGIN:DAYLIGHT
DTSTART:20220708T120000
TZNAME:CEST
TZOFFSETTO:+0200
TZOFFSETFROM:+0200
END:DAYLIGHT
END:VTIMEZONE
END:VCALENDAR
