BEGIN:VCALENDAR
PRODID:-//eluceo/ical//2.0/EN
VERSION:2.0
CALSCALE:GREGORIAN
BEGIN:VEVENT
UID:d39b6115f92bfe80512f0186fed2878c
DTSTAMP:20260425T023903Z
SUMMARY:Lunch mit Referat - PanEco Stiftung
DESCRIPTION:Site internet: http://www.casinotheater.ch\nConférencier(s): &
 nbsp\;Irena Wettstein\, Co-Geschäftsführerin PanEco Stiftung
URL:https://rcwk.ch/fr/agenda/show/128581
DTSTART;TZID=Europe/Zurich:20211126T120000
DTEND;TZID=Europe/Zurich:20211126T133000
LOCATION:Restaurant Casinotheater Winterthur\, Stadthausstrasse 119\, 8400 
 Winterthur
CATEGORIES:Rotary
END:VEVENT
BEGIN:VTIMEZONE
TZID:Europe/Zurich
BEGIN:STANDARD
DTSTART:20211126T120000
TZNAME:CET
TZOFFSETTO:+0100
TZOFFSETFROM:+0100
END:STANDARD
END:VTIMEZONE
END:VCALENDAR
