BEGIN:VCALENDAR
PRODID:-//eluceo/ical//2.0/EN
VERSION:2.0
CALSCALE:GREGORIAN
BEGIN:VEVENT
UID:f3a0ccf7428c8b805b70cfb67cc0ba86
DTSTAMP:20260423T195242Z
SUMMARY:Frühstück - Im Bloom (Alle drei Clubs)
DESCRIPTION:Sito web: https://phwin.ch/
URL:https://rcwk.ch/it/agenda/show/127298
DTSTART;TZID=Europe/Zurich:20211202T063000
DTEND;TZID=Europe/Zurich:20211202T074500
LOCATION:Parkhotel Bloom\, Stadthausstrasse 4\, 8400 Winterthur\, Schweiz
CATEGORIES:Rotary
END:VEVENT
BEGIN:VTIMEZONE
TZID:Europe/Zurich
BEGIN:STANDARD
DTSTART:20211202T063000
TZNAME:CET
TZOFFSETTO:+0100
TZOFFSETFROM:+0100
END:STANDARD
END:VTIMEZONE
END:VCALENDAR
