BEGIN:VCALENDAR
PRODID:-//eluceo/ical//2.0/EN
VERSION:2.0
CALSCALE:GREGORIAN
BEGIN:VEVENT
UID:d0150c4d09ac6c166ecec4db7f059534
DTSTAMP:20260423T181700Z
SUMMARY:Distrikt Halbjahreskonferenz / Fachseminar 2021
DESCRIPTION:Relatore/i: \n\nGovernor Bea Seiterle\n\n
URL:https://rcwk.ch/it/agenda/show/128588
DTSTART;TZID=Europe/Zurich:20211127T090000
DTEND;TZID=Europe/Zurich:20211127T150000
LOCATION:EMPA\, Dübendorf
CATEGORIES:Rotary
END:VEVENT
BEGIN:VTIMEZONE
TZID:Europe/Zurich
BEGIN:STANDARD
DTSTART:20211127T090000
TZNAME:CET
TZOFFSETTO:+0100
TZOFFSETFROM:+0100
END:STANDARD
END:VTIMEZONE
END:VCALENDAR
