BEGIN:VCALENDAR
PRODID:-//eluceo/ical//2.0/EN
VERSION:2.0
CALSCALE:GREGORIAN
BEGIN:VEVENT
UID:ee709a203acd3f7076f7f36af0a6fecd
DTSTAMP:20260420T104251Z
SUMMARY:RC Winterthur-Mörsburg: Apéro in der Bauernstube
DESCRIPTION:Jeweils am letzten Donnerstag im Monat
URL:https://rcwk.ch/it/agenda/show/33148
DTSTART;TZID=Europe/Zurich:20131128T180000
DTEND;TZID=Europe/Zurich:20131128T180000
LOCATION:Strickhof Wülflingen\, Hauptgebäude\, 2. Stock
CATEGORIES:Rotary
END:VEVENT
BEGIN:VTIMEZONE
TZID:Europe/Zurich
BEGIN:STANDARD
DTSTART:20131128T180000
TZNAME:CET
TZOFFSETTO:+0100
TZOFFSETFROM:+0100
END:STANDARD
END:VTIMEZONE
END:VCALENDAR
