BEGIN:VCALENDAR
PRODID:-//eluceo/ical//2.0/EN
VERSION:2.0
CALSCALE:GREGORIAN
BEGIN:VEVENT
UID:a04c69128180cb37f26e3ae5f61e26fe
DTSTAMP:20260420T100216Z
SUMMARY:Lunch
DESCRIPTION:Lebenslauf\, Stephan Lüthi\nRelatore/i: Rot. Stephan Lüthi
URL:https://rcwk.ch/it/agenda/show/33150
DTSTART;TZID=Europe/Zurich:20131129T120000
DTEND;TZID=Europe/Zurich:20131129T120000
LOCATION:Restaurant Casinotheather Winterthur
CATEGORIES:Rotary
END:VEVENT
BEGIN:VTIMEZONE
TZID:Europe/Zurich
BEGIN:STANDARD
DTSTART:20131129T120000
TZNAME:CET
TZOFFSETTO:+0100
TZOFFSETFROM:+0100
END:STANDARD
END:VTIMEZONE
END:VCALENDAR
