BEGIN:VCALENDAR
PRODID:-//eluceo/ical//2.0/EN
VERSION:2.0
CALSCALE:GREGORIAN
BEGIN:VEVENT
UID:a9dbfac6fd8d2c5ea364e6bfa644760c
DTSTAMP:20260422T094503Z
SUMMARY:Distrikt 2000 Fachseminar (Anmeldung notwendig) 
DESCRIPTION:Relatore/i: Liebe Kyburger RotarierInnen\n\nAm 9. November 2013
  findet das Distrikt 2000 Fachseminar in der Abtei St. Otmarsberg/Uznach S
 G statt\, zu dem alle Dienstverantwortlichen und RotarierInnen von DG Clau
 di
URL:https://rcwk.ch/it/agenda/show/35071
DTSTART;TZID=Europe/Zurich:20131109T080000
DTEND;TZID=Europe/Zurich:20131109T180000
LOCATION:Abtei St. Otmarsberg/Uznach SG 
CATEGORIES:Rotary
END:VEVENT
BEGIN:VTIMEZONE
TZID:Europe/Zurich
BEGIN:STANDARD
DTSTART:20131109T080000
TZNAME:CET
TZOFFSETTO:+0100
TZOFFSETFROM:+0100
END:STANDARD
END:VTIMEZONE
END:VCALENDAR
