BEGIN:VCALENDAR
PRODID:-//eluceo/ical//2.0/EN
VERSION:2.0
CALSCALE:GREGORIAN
BEGIN:VEVENT
UID:489e91b9857db433ebcee9a2afd9dde7
DTSTAMP:20260420T105400Z
SUMMARY:Rotary Jassturnier (Anmeldung notwendig)
DESCRIPTION:Beginn um 16.00 Uhr (Apéro)
URL:https://rcwk.ch/it/agenda/show/36212
DTSTART;TZID=Europe/Zurich:20140330T160000
DTEND;TZID=Europe/Zurich:20140330T160000
LOCATION:Restaurant Goldenberg 
CATEGORIES:Rotary
END:VEVENT
BEGIN:VTIMEZONE
TZID:Europe/Zurich
BEGIN:DAYLIGHT
DTSTART:20140330T160000
TZNAME:CEST
TZOFFSETTO:+0200
TZOFFSETFROM:+0200
END:DAYLIGHT
END:VTIMEZONE
END:VCALENDAR
