BEGIN:VCALENDAR
PRODID:-//eluceo/ical//2.0/EN
VERSION:2.0
CALSCALE:GREGORIAN
BEGIN:VEVENT
UID:b75950be9d8999dbcae65f2a5e6c8cee
DTSTAMP:20260422T140323Z
SUMMARY:RC Winterthur-Mörsburg: Apéro in der Bauernstube
DESCRIPTION:Relatore/i: Jeweils am letzten Donnerstag im Monat
URL:https://rcwk.ch/it/agenda/show/36216
DTSTART;TZID=Europe/Zurich:20140424T180000
DTEND;TZID=Europe/Zurich:20140424T180000
LOCATION:Strickhof Wülflingen\, Hauptgebäude\, 2. Stock
CATEGORIES:Rotary
END:VEVENT
BEGIN:VTIMEZONE
TZID:Europe/Zurich
BEGIN:DAYLIGHT
DTSTART:20140424T180000
TZNAME:CEST
TZOFFSETTO:+0200
TZOFFSETFROM:+0200
END:DAYLIGHT
END:VTIMEZONE
END:VCALENDAR
