BEGIN:VCALENDAR
PRODID:-//eluceo/ical//2.0/EN
VERSION:2.0
CALSCALE:GREGORIAN
BEGIN:VEVENT
UID:5d0d5a1cd70b1648188038e7647e76cb
DTSTAMP:20260420T105737Z
SUMMARY:Schnupperexkursion nach Bad Wörishofen (Anmeldung notwendig)
DESCRIPTION:Die wichtigsten Programm-Punkte:\n\n\n5. April         
   \n\n09:00-10:00     Abfahrt Winterthur mit Privatautos\, Einchecken 
 Hotel Fontenay  in Bad Wörishofen\n\n14:00               P
 rogrammbeginn in Bad Wörishofen\n\n                   
      Stadtrundgang mit Lothar Burkhardt\; ehem. Kurdirektor der Stadt\
 n\nab ca. 16:30     Für Interessierte wird Sophia Melder (Ehefrau von
  PP Franz Melder und mediz. und Kneipp-Bademeisterin) an Freiwilligen die 
 Kneippschen Wassergüsse demonstrieren (Ort: Badeabteilung des Hotel Fonte
 nay).\n\n                        Im übrigen steht 
 jedem Hotelgast die Benutzung des Schwimmbads zur Verfügung.  (Badesache
 n nicht vergessen!)\n\n19:30               Gemeinsames Nacht
 essen und gemütliches Beisammensein (Schnuppergelegenheit) im Gasthaus R
 össle.\n\n6. April            Programm am Sonntag\n\n09.30  
              Abfahrt zum und Besichtigung des Fuggerschloss in
  Kirchheim.\n\n                       Die Fürstin A
 ngela zu Fugger-Glott ist Mitglied im RC Bad Wörishofen und PDG des \n\n
                        Distrikts 1840.\n\n12:00 – 14:00  M
 ittagessen im Gasthof Adler in Kirchheim.\n\nab 14:00          R
 ückreise nach Winterthur\n\nDer Geschäftsführer des Kurhotels Fontenay\
 , Rotarier Hubert Holzbock\, bietet den Kyburgern anlässlich der Schnuppe
 r-Exkursion Sonderkonditionen von  EUR 110.00 bzw. EUR 180.00 für das Ei
 nzel- bzw. Doppelzimmer. Im Preis enthalten ist das Frühstück sowie die 
 Benutzung aller Hoteleinrichtungen. Details zum Hotel unter www.kurhotel-f
 ontenay.de.\n\nAnmeldungen für das Hotel Fontenay müssten bis 22. Februa
 r 2014 an Helmut Bourzutschky (hccby@cbtc.ch) erfolgen\, der sie dann en b
 loc weiterleitet.\n\nDie Kyburger\, die sich bereits angemeldet haben\, wi
 rd Helmut direkt auf die Anmeldeliste übernehmen. Eine erneute Mitteilung
  ist nicht notwendig.\nMenu:  \n\n \n\n 
URL:https://rcwk.ch/it/agenda/show/36230
DTSTART;TZID=Europe/Zurich:20140405T090000
DTEND;TZID=Europe/Zurich:20140406T180000
LOCATION:Bad Wörishofen
CATEGORIES:Rotary
END:VEVENT
BEGIN:VTIMEZONE
TZID:Europe/Zurich
BEGIN:DAYLIGHT
DTSTART:20140405T090000
TZNAME:CEST
TZOFFSETTO:+0200
TZOFFSETFROM:+0200
END:DAYLIGHT
END:VTIMEZONE
END:VCALENDAR
