BEGIN:VCALENDAR
PRODID:-//eluceo/ical//2.0/EN
VERSION:2.0
CALSCALE:GREGORIAN
BEGIN:VEVENT
UID:77874b1231a62d774063c98f617ebee7
DTSTAMP:20260422T102213Z
SUMMARY:Liederabend des RC Winterthur Mörsburg (Anmeldung erforderlich)
DESCRIPTION:Am 23. Januar 2014\, ab 19.00 Uhr findet ein Liederabend\, welc
 her vom RC Winterthur Mörsburg organisiert wird\, im Kongress- und Kirchg
 emeindehaus Liebestrasse statt. Mitglieder des RC Winterthur Kyburg (mit P
 artnerinnen und Partner) sind dazu ebenfalls herzlich eingeladen.\n\nProgr
 amm gemäss Beilage (PDF).\n\nAnmeldungen bitte direkt an Rolf Zehnder rol
 f.zehnder@ksw.ch senden.\n\nAnmeldeschluss ist der 9.1.2014\, die Kosten 
 für den Anlass belaufen sich auf CHF 70.-- (Konzert und anschliessender A
 péro).\n\nSiehe auch http://www.rcwm.ch/d/programm.asp
URL:https://rcwk.ch/it/agenda/show/37123
DTSTART;TZID=Europe/Zurich:20140123T190000
DTEND;TZID=Europe/Zurich:20140123T190000
LOCATION:Restaurant Casinotheather Winterthur
CATEGORIES:Rotary
END:VEVENT
BEGIN:VTIMEZONE
TZID:Europe/Zurich
BEGIN:STANDARD
DTSTART:20140123T190000
TZNAME:CET
TZOFFSETTO:+0100
TZOFFSETFROM:+0100
END:STANDARD
END:VTIMEZONE
END:VCALENDAR
