BEGIN:VCALENDAR
PRODID:-//eluceo/ical//2.0/EN
VERSION:2.0
CALSCALE:GREGORIAN
BEGIN:VEVENT
UID:498177bbbba36f9658a7428e4cba6d43
DTSTAMP:20260425T012621Z
SUMMARY:Grittibänz Frühstück
DESCRIPTION:Webbplats: https://kronewinterthur.ch/
URL:https://rcwk.ch/sv/agenda/show/141766
DTSTART;TZID=Europe/Zurich:20221202T064500
DTEND;TZID=Europe/Zurich:20221202T073000
LOCATION:Restaurant / Hotel Krone\, Marktgasse 49\, 8400 Winterthur\, Schwe
 iz
CATEGORIES:Rotary
END:VEVENT
BEGIN:VTIMEZONE
TZID:Europe/Zurich
BEGIN:STANDARD
DTSTART:20221202T064500
TZNAME:CET
TZOFFSETTO:+0100
TZOFFSETFROM:+0100
END:STANDARD
END:VTIMEZONE
END:VCALENDAR
