BEGIN:VCALENDAR
PRODID:-//eluceo/ical//2.0/EN
VERSION:2.0
CALSCALE:GREGORIAN
BEGIN:VEVENT
UID:0d12ac2178f95455bd5fbd1a4480687b
DTSTAMP:20260424T192037Z
SUMMARY:Plauderlunch in den Sportferien
DESCRIPTION:Webbplats: http://www.casinotheater.ch\nTalare: 
URL:https://rcwk.ch/sv/agenda/show/152022
DTSTART;TZID=Europe/Zurich:20230210T120000
DTEND;TZID=Europe/Zurich:20230210T133000
LOCATION:Restaurant Casinotheater Winterthur\, Restaurant Casinotheater Win
 terthur\, Stadthausstrasse 119\, 8400 Winterthur
CATEGORIES:Rotary
END:VEVENT
BEGIN:VTIMEZONE
TZID:Europe/Zurich
BEGIN:STANDARD
DTSTART:20230210T120000
TZNAME:CET
TZOFFSETTO:+0100
TZOFFSETFROM:+0100
END:STANDARD
END:VTIMEZONE
END:VCALENDAR
