BEGIN:VCALENDAR
PRODID:-//eluceo/ical//2.0/EN
VERSION:2.0
CALSCALE:GREGORIAN
BEGIN:VEVENT
UID:2ac69738968a0aa4e646db1c4331f085
DTSTAMP:20260422T094640Z
SUMMARY:Hands-on Projekt Chöpfi - Reserveeinsatz
DESCRIPTION:Talare: 
URL:https://rcwk.ch/sv/agenda/show/209204
DTSTART;TZID=Europe/Zurich:20260912T090000
DTEND;TZID=Europe/Zurich:20260912T170000
LOCATION:Chöpfi - Winterthur-Wülflingen (Parkplätze bei der landwirtscha
 ftlichen Schule)
CATEGORIES:Rotary
END:VEVENT
BEGIN:VTIMEZONE
TZID:Europe/Zurich
BEGIN:DAYLIGHT
DTSTART:20260912T090000
TZNAME:CEST
TZOFFSETTO:+0200
TZOFFSETFROM:+0200
END:DAYLIGHT
END:VTIMEZONE
END:VCALENDAR
