BEGIN:VCALENDAR
PRODID:-//eluceo/ical//2.0/EN
VERSION:2.0
CALSCALE:GREGORIAN
BEGIN:VEVENT
UID:f120073897a86525353f8b041f0bdec3
DTSTAMP:20260420T105053Z
SUMMARY:Lunch
DESCRIPTION:Schwarze Löcher und Galaxien\nTalare: Prof. Kevin Schawinski
URL:https://rcwk.ch/sv/agenda/show/33145
DTSTART;TZID=Europe/Zurich:20131122T120000
DTEND;TZID=Europe/Zurich:20131122T120000
LOCATION:Restaurant Casinotheather Winterthur
CATEGORIES:Rotary
END:VEVENT
BEGIN:VTIMEZONE
TZID:Europe/Zurich
BEGIN:STANDARD
DTSTART:20131122T120000
TZNAME:CET
TZOFFSETTO:+0100
TZOFFSETFROM:+0100
END:STANDARD
END:VTIMEZONE
END:VCALENDAR
