BEGIN:VCALENDAR
PRODID:-//eluceo/ical//2.0/EN
VERSION:2.0
CALSCALE:GREGORIAN
BEGIN:VEVENT
UID:f7daa4198901a2f8b0ba26e0b87ae029
DTSTAMP:20260420T084537Z
SUMMARY:Testveranstaltung mit Vortrag Dr. Meier "Die Homepage und ihre Tüc
 ken" (Anmeldung erforderlich)
DESCRIPTION:Hier kann ein zusätzlicher Text stehen der beliebig formatiert
  werden kann.\n\n\nSo wurde oben eine Trennlinie eingeführt\n\nund nun fo
 lgt eine Tabelle\n\n\nDie Tabelle zum Referat\n\n\n \n \n\n\n \n \n\n\
 n \n \n\n\n\n\n\ndas ist der erste Punkt\ndas der zweite\n \n\nMeny: Hi
 er geht es um das Menu des Essens ... und nichts anderes.\n\nDas ist in de
 n meisten Fällen ja nicht zum Voraus bekannt.\nTalare: Dr. Meier\, Hompag
 eologe an der Universität von Rotaryhausen\n\nHerr Meier ist ein Speziali
 st auf seinem Gebiet und er sieht sehr viele Mitglieder\, welche Probleme 
 haben mit der Homepage. Er berät Vors
URL:https://rcwk.ch/sv/agenda/show/36052
DTSTART;TZID=Europe/Zurich:20131105T120000
DTEND;TZID=Europe/Zurich:20131105T140000
LOCATION:Restaurant Casinotheather Winterthur
CATEGORIES:Rotary
END:VEVENT
BEGIN:VTIMEZONE
TZID:Europe/Zurich
BEGIN:STANDARD
DTSTART:20131105T120000
TZNAME:CET
TZOFFSETTO:+0100
TZOFFSETFROM:+0100
END:STANDARD
END:VTIMEZONE
END:VCALENDAR
