BEGIN:VCALENDAR
PRODID:-//eluceo/ical//2.0/EN
VERSION:2.0
CALSCALE:GREGORIAN
BEGIN:VEVENT
UID:6a5a326b8598bdce306eea2d516baaa3
DTSTAMP:20260422T102507Z
SUMMARY:Neujahrsschiessen RC Zürich Oberland (Anmeldung notwendig)
DESCRIPTION:Detaillierte Informationen in der Beilage.
URL:https://rcwk.ch/sv/agenda/show/36196
DTSTART;TZID=Europe/Zurich:20140114T103000
DTEND;TZID=Europe/Zurich:20140114T140000
LOCATION:Hinwil (Schiessanlage Betzholz)
CATEGORIES:Rotary
END:VEVENT
BEGIN:VTIMEZONE
TZID:Europe/Zurich
BEGIN:STANDARD
DTSTART:20140114T103000
TZNAME:CET
TZOFFSETTO:+0100
TZOFFSETFROM:+0100
END:STANDARD
END:VTIMEZONE
END:VCALENDAR
