BEGIN:VCALENDAR
PRODID:-//eluceo/ical//2.0/EN
VERSION:2.0
CALSCALE:GREGORIAN
BEGIN:VEVENT
UID:d623c0c9f789a673d04e44e0a6e9b4a0
DTSTAMP:20260422T104002Z
SUMMARY:RC Winterthur-Mörsburg: Apéro in der Bauernstube
DESCRIPTION:Talare: Jeweils am letzten Donnerstag im Monat
URL:https://rcwk.ch/sv/agenda/show/36205
DTSTART;TZID=Europe/Zurich:20140227T180000
DTEND;TZID=Europe/Zurich:20140227T180000
LOCATION:Strickhof Wülflingen\, Hauptgebäude\, 2. Stock
CATEGORIES:Rotary
END:VEVENT
BEGIN:VTIMEZONE
TZID:Europe/Zurich
BEGIN:STANDARD
DTSTART:20140227T180000
TZNAME:CET
TZOFFSETTO:+0100
TZOFFSETFROM:+0100
END:STANDARD
END:VTIMEZONE
END:VCALENDAR
