BEGIN:VCALENDAR
PRODID:-//eluceo/ical//2.0/EN
VERSION:2.0
CALSCALE:GREGORIAN
BEGIN:VEVENT
UID:e92f55417123c222fa4a24238c09851c
DTSTAMP:20260422T103249Z
SUMMARY:Abendanlass - Kurs für mechanische Reanimation (Anmeldung erforder
 lich)
DESCRIPTION:Kurs für ca. 40 Personen zur mechanischen Reanimation. Vortrag
  und praktische Übungen an Puppen.\n\nKursdauer: ca. 3 Stunden.\n\nKursko
 sten: ca. Fr. 50.- pro Person.\n\nDen Kursteilnehmern wird eine Teilnahmeb
 estätigung abgegeben.\n\nBequeme Kleidung wird empfohlen.\nTalare: Thomas
  Rieder\, Leiter Pflege Anästhesie / Narkose KSW
URL:https://rcwk.ch/sv/agenda/show/36207
DTSTART;TZID=Europe/Zurich:20140207T183000
DTEND;TZID=Europe/Zurich:20140207T220000
LOCATION:Kongress- und Kirchgemeindehaus Liebestrasse
CATEGORIES:Rotary
END:VEVENT
BEGIN:VTIMEZONE
TZID:Europe/Zurich
BEGIN:STANDARD
DTSTART:20140207T183000
TZNAME:CET
TZOFFSETTO:+0100
TZOFFSETFROM:+0100
END:STANDARD
END:VTIMEZONE
END:VCALENDAR
